BEGIN:VCALENDAR
VERSION:2.0
PRODID:-//wp-events-plugin.com//7.2.3.1//EN
TZID:Europe/Berlin
X-WR-TIMEZONE:Europe/Berlin
BEGIN:VEVENT
UID:304@mhwk.de
DTSTART;TZID=Europe/Berlin:20200610T100000
DTEND;TZID=Europe/Berlin:20200610T130000
DTSTAMP:20200526T075145Z
URL:https://www.mhwk.de/events/5-kita-grand-prix-marzahn-hellersdorf/
SUMMARY:Abgesagt 5. Kita-Grand Prix Marzahn-Hellersdorf
DESCRIPTION:
CATEGORIES:Sport &amp; Freizeit
LOCATION:Gärten der Welt\, Blumberger Damm 44\, Berlin\, 12685 \, Deutschl
 and
GEO:52.5380239;13.570371000000023
X-APPLE-STRUCTURED-LOCATION;VALUE=URI;X-ADDRESS=Blumberger Damm 44\, Berlin
 \, 12685 \, Deutschland;X-APPLE-RADIUS=100;X-TITLE=Gärten der Welt:geo:52
 .5380239,13.570371000000023
END:VEVENT
BEGIN:VTIMEZONE
TZID:Europe/Berlin
X-LIC-LOCATION:Europe/Berlin
BEGIN:DAYLIGHT
DTSTART:20200329T030000
TZOFFSETFROM:+0100
TZOFFSETTO:+0200
TZNAME:CEST
END:DAYLIGHT
END:VTIMEZONE
END:VCALENDAR