BEGIN:VCALENDAR
VERSION:2.0
PRODID:-//wp-events-plugin.com//7.2.3.1//EN
TZID:Europe/Berlin
X-WR-TIMEZONE:Europe/Berlin
BEGIN:VEVENT
UID:396@mhwk.de
DTSTART;TZID=Europe/Berlin:20220616T160000
DTEND;TZID=Europe/Berlin:20220616T160000
DTSTAMP:20220420T112245Z
URL:https://www.mhwk.de/events/5-gesundheitswirtschaftskonferenz/
SUMMARY:5. GesundheitsWirtschaftsKonferenz
DESCRIPTION:
LOCATION:Haus der Zukunft am ukb\, Blumberger Damm 2k\, Berlin\, 12683\, De
 utschland
X-APPLE-STRUCTURED-LOCATION;VALUE=URI;X-ADDRESS=Blumberger Damm 2k\, Berlin
 \, 12683\, Deutschland;X-APPLE-RADIUS=100;X-TITLE=Haus der Zukunft am ukb:
 geo:0,0
END:VEVENT
BEGIN:VTIMEZONE
TZID:Europe/Berlin
X-LIC-LOCATION:Europe/Berlin
BEGIN:DAYLIGHT
DTSTART:20220327T030000
TZOFFSETFROM:+0100
TZOFFSETTO:+0200
TZNAME:CEST
END:DAYLIGHT
END:VTIMEZONE
END:VCALENDAR