BEGIN:VCALENDAR
VERSION:2.0
PRODID:-//wp-events-plugin.com//7.2.3.1//EN
TZID:Europe/Berlin
X-WR-TIMEZONE:Europe/Berlin
BEGIN:VEVENT
UID:271@mhwk.de
DTSTART;TZID=Europe/Berlin:20191023T150000
DTEND;TZID=Europe/Berlin:20191023T190000
DTSTAMP:20190218T145834Z
URL:https://www.mhwk.de/events/4-gesundheitswirtschaftskonferenz/
SUMMARY:4. GesundheitsWirtschaftsKonferenz
DESCRIPTION:
LOCATION:Unfallkrankenhaus Berlin\, Altes Kesselhaus\, Warener Straße 5\, 
 Berlin\, 12683\, Deutschland
GEO:52.5203496;13.566059399999972
X-APPLE-STRUCTURED-LOCATION;VALUE=URI;X-ADDRESS=Warener Straße 5\, Berlin\
 , 12683\, Deutschland;X-APPLE-RADIUS=100;X-TITLE=Unfallkrankenhaus Berlin\
 , Altes Kesselhaus:geo:52.5203496,13.566059399999972
END:VEVENT
BEGIN:VTIMEZONE
TZID:Europe/Berlin
X-LIC-LOCATION:Europe/Berlin
BEGIN:DAYLIGHT
DTSTART:20190331T030000
TZOFFSETFROM:+0100
TZOFFSETTO:+0200
TZNAME:CEST
END:DAYLIGHT
END:VTIMEZONE
END:VCALENDAR