BEGIN:VCALENDAR
VERSION:2.0
PRODID:-//wp-events-plugin.com//7.2.3.1//EN
TZID:Europe/Berlin
X-WR-TIMEZONE:Europe/Berlin
BEGIN:VEVENT
UID:494@mhwk.de
DTSTART;TZID=Europe/Berlin:20241203T190000
DTEND;TZID=Europe/Berlin:20241203T210000
DTSTAMP:20240603T101131Z
URL:https://www.mhwk.de/events/36-bowling-abend/
SUMMARY:36. Bowling-Abend
DESCRIPTION:
CATEGORIES:MHWK-Unternehmerinnentreff,MHWK-Unternehmertreff,Mitglieder
 empfehlen
LOCATION:American Bowl & Play off\, Märkische Allee 176-178\, Berlin\, 126
 79\, Deutschland
GEO:52.5422342;13.541561600000023
X-APPLE-STRUCTURED-LOCATION;VALUE=URI;X-ADDRESS=Märkische Allee 176-178\, 
 Berlin\, 12679\, Deutschland;X-APPLE-RADIUS=100;X-TITLE=American Bowl & Pl
 ay off:geo:52.5422342,13.541561600000023
END:VEVENT
BEGIN:VTIMEZONE
TZID:Europe/Berlin
X-LIC-LOCATION:Europe/Berlin
BEGIN:STANDARD
DTSTART:20241027T020000
TZOFFSETFROM:+0200
TZOFFSETTO:+0100
TZNAME:CET
END:STANDARD
END:VTIMEZONE
END:VCALENDAR