BEGIN:VCALENDAR
VERSION:2.0
PRODID:-//wp-events-plugin.com//7.2.3.1//EN
TZID:Europe/Berlin
X-WR-TIMEZONE:Europe/Berlin
BEGIN:VEVENT
UID:294@mhwk.de
DTSTART;TZID=Europe/Berlin:20191113T180000
DTEND;TZID=Europe/Berlin:20191113T200000
DTSTAMP:20191015T103333Z
URL:https://www.mhwk.de/events/3-mhwk-stammtisch/
SUMMARY:3. MHWK-Stammtisch
DESCRIPTION:Thema: Ein Jahr nach Einführung der DSGVO
END:VEVENT
BEGIN:VTIMEZONE
TZID:Europe/Berlin
X-LIC-LOCATION:Europe/Berlin
BEGIN:STANDARD
DTSTART:20191027T020000
TZOFFSETFROM:+0200
TZOFFSETTO:+0100
TZNAME:CET
END:STANDARD
END:VTIMEZONE
END:VCALENDAR