BEGIN:VCALENDAR
VERSION:2.0
PRODID:-//wp-events-plugin.com//7.2.3.1//EN
TZID:Europe/Berlin
X-WR-TIMEZONE:Europe/Berlin
BEGIN:VEVENT
UID:290@mhwk.de
DTSTART;TZID=Europe/Berlin:20191009T180000
DTEND;TZID=Europe/Berlin:20191009T203000
DTSTAMP:20190925T143958Z
URL:https://www.mhwk.de/events/2-mhwk-stammtisch/
SUMMARY:2. MHWK-Stammtisch
DESCRIPTION:
LOCATION:"Bica" Billard & Cafe\, Helene-Weigel-Platz 4\, Berlin\, 12681\, D
 eutschland
X-APPLE-STRUCTURED-LOCATION;VALUE=URI;X-ADDRESS=Helene-Weigel-Platz 4\, Ber
 lin\, 12681\, Deutschland;X-APPLE-RADIUS=100;X-TITLE=\"Bica\" Billard & Ca
 fe:geo:0,0
END:VEVENT
BEGIN:VTIMEZONE
TZID:Europe/Berlin
X-LIC-LOCATION:Europe/Berlin
BEGIN:DAYLIGHT
DTSTART:20190331T030000
TZOFFSETFROM:+0100
TZOFFSETTO:+0200
TZNAME:CEST
END:DAYLIGHT
END:VTIMEZONE
END:VCALENDAR