BEGIN:VCALENDAR
VERSION:2.0
PRODID:-//wp-events-plugin.com//7.2.3.1//EN
TZID:Europe/Berlin
X-WR-TIMEZONE:Europe/Berlin
BEGIN:VEVENT
UID:9@mhwk.de
DTSTART;TZID=Europe/Berlin:20150302T100000
DTEND;TZID=Europe/Berlin:20150307T200000
DTSTAMP:20150208T151859Z
URL:https://www.mhwk.de/events/2-info-und-erlebnisstore/
SUMMARY:2. Info- und Erlebnisstore
DESCRIPTION:Veranstalter: Bezirksamt Marzahn-Hellersdorf - Standortmarketin
 g
LOCATION:EASTGATE Berlin\, Marzahner Promenade 1A\, Berlin\, 12679\, Deutsc
 hland
GEO:52.54282;13.542640000000006
X-APPLE-STRUCTURED-LOCATION;VALUE=URI;X-ADDRESS=Marzahner Promenade 1A\, Be
 rlin\, 12679\, Deutschland;X-APPLE-RADIUS=100;X-TITLE=EASTGATE Berlin:geo:
 52.54282,13.542640000000006
END:VEVENT
BEGIN:VTIMEZONE
TZID:Europe/Berlin
X-LIC-LOCATION:Europe/Berlin
BEGIN:STANDARD
DTSTART:20141026T020000
TZOFFSETFROM:+0200
TZOFFSETTO:+0100
TZNAME:CET
END:STANDARD
END:VTIMEZONE
END:VCALENDAR