BEGIN:VCALENDAR
VERSION:2.0
PRODID:-//wp-events-plugin.com//7.2.3.1//EN
TZID:Europe/Berlin
X-WR-TIMEZONE:Europe/Berlin
BEGIN:VEVENT
UID:299@mhwk.de
DTSTART;TZID=Europe/Berlin:20200904T090000
DTEND;TZID=Europe/Berlin:20200904T190000
DTSTAMP:20200423T104301Z
URL:https://www.mhwk.de/events/2-eastside-cup/
SUMMARY:2. Eastside Cup
DESCRIPTION:
CATEGORIES:MHWK-Unternehmertreff,Sport &amp; Freizeit
LOCATION:Golfclub Prenden\, Golfclub\, Prenden\, Deutschland
GEO:52.796899;13.514364
X-APPLE-STRUCTURED-LOCATION;VALUE=URI;X-ADDRESS=Golfclub\, Prenden\, Deutsc
 hland;X-APPLE-RADIUS=100;X-TITLE=Golfclub Prenden:geo:52.796899,13.514364
END:VEVENT
BEGIN:VTIMEZONE
TZID:Europe/Berlin
X-LIC-LOCATION:Europe/Berlin
BEGIN:DAYLIGHT
DTSTART:20200329T030000
TZOFFSETFROM:+0100
TZOFFSETTO:+0200
TZNAME:CEST
END:DAYLIGHT
END:VTIMEZONE
END:VCALENDAR