BEGIN:VCALENDAR
VERSION:2.0
PRODID:-//wp-events-plugin.com//7.2.3.1//EN
TZID:Europe/Berlin
X-WR-TIMEZONE:Europe/Berlin
BEGIN:VEVENT
UID:22@mhwk.de
DTSTART;TZID=Europe/Berlin:20150507T170000
DTEND;TZID=Europe/Berlin:20150507T200000
DTSTAMP:20150218T102457Z
URL:https://www.mhwk.de/events/11-vorstandssitzung/
SUMMARY:Vorstandssitzung
DESCRIPTION:
ATTACH;FMTTYPE=image/jpeg:https://www.mhwk.de/wp-content/uploads/2015/01/2
 014_Vorstand.jpg
CATEGORIES:Vorstandssitzung
LOCATION:MHWK-Geschäftsstelle\, Georg-Knorr-Straße 4\, Haus 1\, F2\, Berl
 in\, 12681\, Deutschland
GEO:52.53984999999999;13.533599999999979
X-APPLE-STRUCTURED-LOCATION;VALUE=URI;X-ADDRESS=Georg-Knorr-Straße 4\, Hau
 s 1\, F2\, Berlin\, 12681\, Deutschland;X-APPLE-RADIUS=100;X-TITLE=MHWK-Ge
 schäftsstelle:geo:52.53984999999999,13.533599999999979
END:VEVENT
BEGIN:VTIMEZONE
TZID:Europe/Berlin
X-LIC-LOCATION:Europe/Berlin
BEGIN:DAYLIGHT
DTSTART:20150329T030000
TZOFFSETFROM:+0100
TZOFFSETTO:+0200
TZNAME:CEST
END:DAYLIGHT
END:VTIMEZONE
END:VCALENDAR