BEGIN:VCALENDAR
VERSION:2.0
PRODID:-//wp-events-plugin.com//7.2.3.1//EN
TZID:Europe/Berlin
X-WR-TIMEZONE:Europe/Berlin
BEGIN:VEVENT
UID:17@mhwk.de
DTSTART;TZID=Europe/Berlin:20150416T170000
DTEND;TZID=Europe/Berlin:20150416T200000
DTSTAMP:20150310T085236Z
URL:https://www.mhwk.de/events/10-vorstandssitzung-2/
SUMMARY:Vorstandssitzung
DESCRIPTION:geschlossene Veranstaltung
CATEGORIES:Vorstandssitzung
LOCATION:Harry Brot\, Wolfener Straße 14\, Berlin\, 12681\, Deutschland
GEO:52.55479;13.54674
X-APPLE-STRUCTURED-LOCATION;VALUE=URI;X-ADDRESS=Wolfener Straße 14\, Berli
 n\, 12681\, Deutschland;X-APPLE-RADIUS=100;X-TITLE=Harry Brot:geo:52.55479
 ,13.54674
END:VEVENT
BEGIN:VTIMEZONE
TZID:Europe/Berlin
X-LIC-LOCATION:Europe/Berlin
BEGIN:DAYLIGHT
DTSTART:20150329T030000
TZOFFSETFROM:+0100
TZOFFSETTO:+0200
TZNAME:CEST
END:DAYLIGHT
END:VTIMEZONE
END:VCALENDAR