BEGIN:VCALENDAR
VERSION:2.0
PRODID:-//wp-events-plugin.com//7.2.3.1//EN
TZID:Europe/Berlin
X-WR-TIMEZONE:Europe/Berlin
BEGIN:VEVENT
UID:344@mhwk.de
DTSTART;TZID=Europe/Berlin:20201111T160000
DTEND;TZID=Europe/Berlin:20201111T180000
DTSTAMP:20200925T102811Z
URL:https://www.mhwk.de/events/1-vorstandssitzung/
SUMMARY:1. Vorstandssitzung
DESCRIPTION:
CATEGORIES:Vorstandssitzung
LOCATION:MHWK-Geschäftsstelle\, Georg-Knorr-Straße 4\, Haus 1\, F2\, Berl
 in\, 12681\, Deutschland
GEO:52.53984999999999;13.533599999999979
X-APPLE-STRUCTURED-LOCATION;VALUE=URI;X-ADDRESS=Georg-Knorr-Straße 4\, Hau
 s 1\, F2\, Berlin\, 12681\, Deutschland;X-APPLE-RADIUS=100;X-TITLE=MHWK-Ge
 schäftsstelle:geo:52.53984999999999,13.533599999999979
END:VEVENT
BEGIN:VTIMEZONE
TZID:Europe/Berlin
X-LIC-LOCATION:Europe/Berlin
BEGIN:STANDARD
DTSTART:20201025T020000
TZOFFSETFROM:+0200
TZOFFSETTO:+0100
TZNAME:CET
END:STANDARD
END:VTIMEZONE
END:VCALENDAR